BEGIN:VCALENDAR
VERSION:2.0
PRODID:-//Tukios.com/
BEGIN:VEVENT
UID:a1de45ff-63fb-4eb7-aede-19fcd7346e0b@www.dingmannfuneral.com
DTSTAMP:20260421T035031Z
DTSTART:20260508T160000Z
DTEND:20260508T164500Z
SUMMARY:Memorial Service
DESCRIPTION:
URL:https://www.dingmannfuneral.com/obituaries/holly-menk-anderson
LOCATION: 85 N Main St PO Box 69' Kimball MN 55353
GEO:45.3144066;-94.3007623
END:VEVENT
END:VCALENDAR