BEGIN:VCALENDAR
VERSION:2.0
PRODID:-//Tukios.com/
BEGIN:VEVENT
UID:1fb18b6f-a67d-468f-b7c8-86ae6da99ccb@www.dingmannfuneral.com
DTSTAMP:20260421T035329Z
DTSTART:20260507T210000Z
DTEND:20260508T000000Z
SUMMARY:Visitation
DESCRIPTION:
URL:https://www.dingmannfuneral.com/obituaries/holly-menk-anderson
LOCATION:Dingmann Funeral Care Chapel, Kimball 85 N Main St.  Kimball MN 
	55353
GEO:45.3144407;-94.3007364
END:VEVENT
END:VCALENDAR