BEGIN:VCALENDAR
VERSION:2.0
PRODID:-//Tukios.com/
BEGIN:VEVENT
UID:4fe1cadc-54e9-4d26-9c70-48398b27ce2e@www.dingmannfuneral.com
DTSTAMP:20260421T035104Z
DTSTART:20260508T150000Z
DTEND:20260508T160000Z
SUMMARY:Visitation
DESCRIPTION:
URL:https://www.dingmannfuneral.com/obituaries/holly-menk-anderson
LOCATION:Dingmann Funeral Care Chapel, Kimball 85 N Main St.  Kimball MN 
	55353
GEO:45.3144407;-94.3007364
END:VEVENT
END:VCALENDAR